BEGIN:VCALENDAR
VERSION:2.0
PRODID:-//medley - ECPv6.15.20//NONSGML v1.0//EN
CALSCALE:GREGORIAN
METHOD:PUBLISH
X-WR-CALNAME:medley
X-ORIGINAL-URL:https://medleymalmo.se
X-WR-CALDESC:Händelser för medley
REFRESH-INTERVAL;VALUE=DURATION:PT1H
X-Robots-Tag:noindex
X-PUBLISHED-TTL:PT1H
BEGIN:VTIMEZONE
TZID:UTC
BEGIN:STANDARD
TZOFFSETFROM:+0000
TZOFFSETTO:+0000
TZNAME:UTC
DTSTART:20240101T000000
END:STANDARD
END:VTIMEZONE
BEGIN:VEVENT
DTSTART;TZID=UTC:20250627T080000
DTEND;TZID=UTC:20250807T170000
DTSTAMP:20260423T103323
CREATED:20250719T104358Z
LAST-MODIFIED:20250719T104358Z
UID:10507-1751011200-1754586000@medleymalmo.se
SUMMARY:Sommarlov & stängt
DESCRIPTION:Vila & konserter går in på vågrät sju och planering & bokningar inför hösten på lodrätt nio
URL:https://medleymalmo.se/event/sommarlov-stangt/
END:VEVENT
END:VCALENDAR