BEGIN:VCALENDAR
VERSION:2.0
PRODID:-//medley - ECPv6.15.20//NONSGML v1.0//EN
CALSCALE:GREGORIAN
METHOD:PUBLISH
X-ORIGINAL-URL:https://medleymalmo.se
X-WR-CALDESC:Händelser för medley
REFRESH-INTERVAL;VALUE=DURATION:PT1H
X-Robots-Tag:noindex
X-PUBLISHED-TTL:PT1H
BEGIN:VTIMEZONE
TZID:UTC
BEGIN:STANDARD
TZOFFSETFROM:+0000
TZOFFSETTO:+0000
TZNAME:UTC
DTSTART:20240101T000000
END:STANDARD
END:VTIMEZONE
BEGIN:VEVENT
DTSTART;TZID=UTC:20250603T200000
DTEND;TZID=UTC:20250603T220000
DTSTAMP:20260423T090024
CREATED:20250404T052432Z
LAST-MODIFIED:20250602T141855Z
UID:10007-1748980800-1748988000@medleymalmo.se
SUMMARY:OBS! Inställt: The Jonestown Fruit Jar Drinkers
DESCRIPTION:Spelningen är tyvärr inställd pga sjukdom. Vi hoppas få till ett nytt datum framåt.The Jonestown Fruit Jar Drinkers is a hokum blues / old time / jug band formed in 2014 by Mats Rehle (tenorbanjo\, kazoo\, vocals) & Frank Jirhamn (fiddle\, mandolin\, vocals)\, on the streets of Malmö. \n\n\n\nDet är fri entré men vi ser gärna att ni swishar valfritt belopp direkt till artisterna.Åldersgräns 18-år. I målsmans sällskap 13-år. \n\n\n\nOm du vill äta innan konserten boka bord Om du behöver boende i samband med konserten rekommenderar vi Hotel Garden ett par minuters promenad från medley: https://ligula.se/en/profilhotels/hotel-garden/Använd “corporate code” 985052 vid rumsbokning för 12% rabatt.
URL:https://medleymalmo.se/event/fri-entre-the-jonestown-fruit-jar-drinkers-3/
ATTACH;FMTTYPE=image/jpeg:https://medleymalmo.se/wip/wp-content/uploads/2023/06/jonestownfruitjar.jpg
END:VEVENT
BEGIN:VEVENT
DTSTART;TZID=UTC:20250604T170000
DTEND;TZID=UTC:20250604T230000
DTSTAMP:20260423T090024
CREATED:20250215T141651Z
LAST-MODIFIED:20250215T141652Z
UID:9618-1749056400-1749078000@medleymalmo.se
SUMMARY:Denna kväll är medley abonnerat
DESCRIPTION:
URL:https://medleymalmo.se/event/denna-kvall-ar-medley-abonnerat-8/
END:VEVENT
BEGIN:VEVENT
DTSTART;TZID=UTC:20250605T160000
DTEND;TZID=UTC:20250605T230000
DTSTAMP:20260423T090024
CREATED:20250601T145235Z
LAST-MODIFIED:20250601T145616Z
UID:10378-1749139200-1749164400@medleymalmo.se
SUMMARY:Denna kväll är medley abonnerat
DESCRIPTION:
URL:https://medleymalmo.se/event/denna-dag-ar-medley-abonnerat/
END:VEVENT
BEGIN:VEVENT
DTSTART;TZID=UTC:20250606T200000
DTEND;TZID=UTC:20250606T230000
DTSTAMP:20260423T090024
CREATED:20250421T071338Z
LAST-MODIFIED:20250523T184353Z
UID:10086-1749240000-1749250800@medleymalmo.se
SUMMARY:Fira National(teatern)dagen på medley
DESCRIPTION:6 juni är inte bara ännu en röd dag att fira. Det är också National(teatern)dagen. En dag som bör firas med mer musik än knätofsar. Med mer kärlek än hat. Med mer rock än sofflock. Med mer visa än fisar i rymden. Traditionen startade förra året på medley och är här för att stanna. Även på årets National(teatern)dag kommer medleys scen att fyllas med band och gäster som kör hyllningar och tolkningar av låtar ur Nationalteaterns skattkista. Än så länge är vi bl.a. Jenka Jenkins\, Palle Bull & Förlorarna\, Pretto\, Eggboys\, Sillstryparens Vänner\, Ossian Larssons ”Ungdomarna”\, Åsa Bällsten\, och så Kalaskapellet som denna gång består av Rick Titrö\, Anette Rosengren\, Jonas Lind\, Emma Silfver\, Simon Kullberg & Lattjolajbanlådan. Fler namn och en och annan specialgäst kan tillkomma. \n\n\n\nPris: 150 krKöp biljett\n\n\n\nÅldersgräns 18-år. I målsmans sällskap 13-år. \n\n\n\nOm du vill äta innan konserten boka bord här: https://medleymalmo.se/boka-bord/Om du behöver boende i samband med konserten rekommenderar vi Hotel Garden ett par minuters promenad från medley: https://ligula.se/en/profilhotels/hotel-garden/Använd “corporate code” 985052 vid rumsbokning för 12% rabatt.
URL:https://medleymalmo.se/event/fira-nationalteaterndagen-pa-medley-2/
ATTACH;FMTTYPE=image/jpeg:https://medleymalmo.se/wip/wp-content/uploads/2025/04/Nationalteaterdagen-2025.jpg
END:VEVENT
BEGIN:VEVENT
DTSTART;TZID=UTC:20250607T200000
DTEND;TZID=UTC:20250607T230000
DTSTAMP:20260423T090024
CREATED:20250505T053501Z
LAST-MODIFIED:20250505T053511Z
UID:10181-1749326400-1749337200@medleymalmo.se
SUMMARY:Fri entré: Husbandet på medley: Muscle Shoals tribute
DESCRIPTION:Husbandet på medley gör succé med sina olika tributekvällar. Det har låtit strålande och det har varit fullsatta kvällar. Efter ett första set med blandade americana-favoriter har bl a Neil Young\, Ryan Adams\, Jason Isbell och Tom Petty hyllats. Denna gången är det “Muscle Shoals” tur. Det är samma upplägg den här gången. \n\n\n\nPris: Fri entré\n\n\n\nÅldersgräns 18-år. I målsmans sällskap 13-år. \n\n\n\nOm du vill äta innan konserten boka bord här: https://medleymalmo.se/boka-bord/Om du behöver boende i samband med konserten rekommenderar vi Hotel Garden ett par minuters promenad från medley: https://ligula.se/en/profilhotels/hotel-garden/Använd “corporate code” 985052 vid rumsbokning för 12% rabatt.
URL:https://medleymalmo.se/event/fri-entre-husbandet-pa-medley-muscle-shoals-tribute/
ATTACH;FMTTYPE=image/png:https://medleymalmo.se/wip/wp-content/uploads/2025/05/Husbandet_16x9-nashville.png
END:VEVENT
BEGIN:VEVENT
DTSTART;TZID=UTC:20250610T200000
DTEND;TZID=UTC:20250610T220000
DTSTAMP:20260423T090024
CREATED:20250417T143539Z
LAST-MODIFIED:20250422T193702Z
UID:10073-1749585600-1749592800@medleymalmo.se
SUMMARY:Fri entré: Jon Strider (US) & Friends
DESCRIPTION:JON STRIDER is a performing singer-songwriter and record producer from California\, currently putting the finishing touches\, here in Malmö\, on his 10th solo album\, entitled ‘The Raft’. It will be released under the artist name of ‘The StriderFactor’ on New Sky Records\, sometime later in 2025. Jon’s music is essentially West Coast Americana\, though he’s always called it “Rhythm n’ Folk” and “Retro-Rockin’ Country”. Think Jackson Browne\, Vince Gill and Tom Petty. He is very much excited to join John Ström – and other special guests – on the medley Bistro stage. JOHN STRÖM In his seriously humorous way\, with the occasional obscure reference\, and an underlying subversiveness\, John Ström is a unique singer-songwriter from Stockholm who settled in Malmö in 2000. In addition to his original songs John does evocative interpretations of the likes of Tom Waits\, Tom Paxton and Phil Ochs. All in Swedish. \n\n\n\nPris: Fri entré\n\n\n\n\n\n\n\n\n\nÅldersgräns 18-år. I målsmans sällskap 13-år. \n\n\n\nOm du vill äta innan konserten boka bord Om du behöver boende i samband med konserten rekommenderar vi Hotel Garden ett par minuters promenad från medley: https://ligula.se/en/profilhotels/hotel-garden/Använd “corporate code” 985052 vid rumsbokning för 12% rabatt.
URL:https://medleymalmo.se/event/fri-entre-jon-strider-us-friends/
ATTACH;FMTTYPE=image/jpeg:https://medleymalmo.se/wip/wp-content/uploads/2025/04/JSguitJSh-bench-041325___-1-e1744900494432.jpg
END:VEVENT
BEGIN:VEVENT
DTSTART;TZID=UTC:20250611T200000
DTEND;TZID=UTC:20250611T230000
DTSTAMP:20260423T090024
CREATED:20250310T104511Z
LAST-MODIFIED:20250320T095543Z
UID:9826-1749672000-1749682800@medleymalmo.se
SUMMARY:Amy Helm Band (US)
DESCRIPTION:Breaking Americana News! Det blir ett exklusivt besök från Woodstock när Amy Helm med band kommer till medley.  \n\n\n\nAmy Helm\, dotter till The Bands Levon Helm (trummor\, sång och mandolin)\, har en lång karriär bakom sig. Det är drygt 20 år sedan jag hörde henne första gången\, då med sitt band Ollabelle (som släppte tre album). Under den här tiden var Amy även en del av pappa Levon Helms band som hade sin kulturella bas i den lada han lät bygga vid sidan om sitt bostadshus i Woodstock\, Upstate New York\, där han anordnade sina mytomspunna Midnight Ramble-konserter där Amy även medverkade. \n\n\n\nAmy Helm har också ansvarat för Levon Helms studio i Woodstock där hon bland annat spelade in sitt tredje soloalbum ”What the Flood Leaves Behind”. Liksom pappa Levon spelar Amy mandolin men även gitarr. \n\n\n\nSedan flera år är Amy soloartist med en rad fina album där hon tar traditionen från Levon Helm in i vår tid. ”Rootsy folkrock” med tydliga inslag av country\, soul och gospel (den perfekta Americana-formeln). 2022 spelade Jesper Lindell in ”Twilight”\, en duett med Amy Helm\, från hans album med samma namn. Samt lite kuriosa\, Donald Fagen (Steely Dan) är Amys styvpappa\, Amys mamma Libby Titus gifte sig med Fagen 1993. (Text: OLLE BERGGREN) \n\n\n\nPris 250 krKöp biljett\n\n\n\n\n\n\n\n\n\nAmy Helm Band: Amy Helm – vocals – Dan Littleton – guitars & vocals – Adam Minkoff – bass / guitar / vocals – Ray Rizzo – drums \n\n\n\nÅldersgräns 18-år. I målsmans sällskap 13-år. \n\n\n\nOm du vill äta innan konserten boka bord Om du behöver boende i samband med konserten rekommenderar vi Hotel Garden ett par minuters promenad från medley: https://ligula.se/en/profilhotels/hotel-garden/Använd “corporate code” 985052 vid rumsbokning för 12% rabatt.
URL:https://medleymalmo.se/event/amy-helm-band-us/
ATTACH;FMTTYPE=image/jpeg:https://medleymalmo.se/wip/wp-content/uploads/2025/03/Amy-Helm-photo-credit-Ebru-Yildiz-scaled-e1741603502537.jpg
END:VEVENT
BEGIN:VEVENT
DTSTART;TZID=UTC:20250612T200000
DTEND;TZID=UTC:20250612T220000
DTSTAMP:20260423T090024
CREATED:20250407T180500Z
LAST-MODIFIED:20250510T151534Z
UID:10017-1749758400-1749765600@medleymalmo.se
SUMMARY:Releasefest! Psykedelisk Förskola + Dipper
DESCRIPTION:Psykedelisk Förskola släpper sitt debutalbum (och en singel)\, och detta ska firas i dagarna två! Torsdagen den 12 juni spelas Psykedelium i sin helhet på medley och dagen efter blir det ett instore-gig på Rundgång i samband med fredagsölen. Plattan\, som släpps av Rundgång Rekords\, är inspelad och producerad av Joakim Lindberg (MFMB) i hans studio Sickan. Joakim är makalöst begåvad och skivan låter fantastiskt. Det kommer finnas både vinylsinglar\, vinylalbum och CD-skivor till försäljning vid båda konserterna.Dipper som inleder festen behöver inte någon presentation. Ett av Malmös bästa band. \n\n\n\nPris: 100 krKöp biljett\n\n\n\n\n\n\n\n\n\nÅldersgräns 18-år. I målsmans sällskap 13-år. \n\n\n\nOm du vill äta innan konserten boka bordOm du behöver boende i samband med konserten rekommenderar vi Hotel Garden ett par minuters promenad från medley: https://ligula.se/en/profilhotels/hotel-garden/Använd “corporate code” 985052 vid rumsbokning för 12% rabatt.
URL:https://medleymalmo.se/event/releasefest-psykedelisk-forskola-support/
ATTACH;FMTTYPE=image/jpeg:https://medleymalmo.se/wip/wp-content/uploads/2025/04/psykedeliskforskolaomslag-e1744049092977.jpeg
END:VEVENT
BEGIN:VEVENT
DTSTART;TZID=UTC:20250613T200000
DTEND;TZID=UTC:20250613T230000
DTSTAMP:20260423T090024
CREATED:20250217T082839Z
LAST-MODIFIED:20250325T110050Z
UID:9635-1749844800-1749855600@medleymalmo.se
SUMMARY:Gasline: Gasolin Tribute – OBS Slutsålt
DESCRIPTION:GASLINE är ett rock/tribute-band från Skåne som spelar Gasolin och Kim Larsen-låtar. Om man tänker sig att Gasolin hade återförenats efter Kims soloalbum 1979\, så hade det kanske varit dessa låtarna de hade framfört. Och på detta sättet\, det vill säga med betoning på rock! Självklart är all sång och allt snack på danska. \n\n\n\nPris: 200 krKöp biljett\n\n\n\nÅldersgräns 18-år. I målsmans sällskap 13-år. \n\n\n\nOm du vill äta innan konserten boka bord Om du behöver boende i samband med konserten rekommenderar vi Hotel Garden ett par minuters promenad från medley: https://ligula.se/en/profilhotels/hotel-garden/Använd “corporate code” 985052 vid rumsbokning för 12% rabatt.
URL:https://medleymalmo.se/event/gasline-gasolin-tribute-2/
ATTACH;FMTTYPE=image/jpeg:https://medleymalmo.se/wip/wp-content/uploads/2025/02/Gasline-16x9-kopiera.jpg
END:VEVENT
BEGIN:VEVENT
DTSTART;TZID=UTC:20250614T170000
DTEND;TZID=UTC:20250614T230000
DTSTAMP:20260423T090024
CREATED:20250601T145344Z
LAST-MODIFIED:20250601T145357Z
UID:10380-1749920400-1749942000@medleymalmo.se
SUMMARY:Denna kväll är medley abonnerat
DESCRIPTION:
URL:https://medleymalmo.se/event/denna-kvall-ar-medley-abonnerat-9/
END:VEVENT
BEGIN:VEVENT
DTSTART;TZID=UTC:20250617T200000
DTEND;TZID=UTC:20250617T220000
DTSTAMP:20260423T090024
CREATED:20250503T111312Z
LAST-MODIFIED:20250503T111312Z
UID:10172-1750190400-1750197600@medleymalmo.se
SUMMARY:Fri entré: Camilla Jonasson med band. Releasefest.
DESCRIPTION:Musiksläpp & AW – Camilla Jonasson med band släpper nytt. Konserten är på vår bistroscen. \n\n\n\nDen 17 juni är det dags för releasepartaj. Då släpper Camilla Jonasson a.k.a Kulturtanten med band ny musik från den bejublade föreställningen: ”Jag är inte din mamma\, inte någon annans heller”. Föreställningen\, som blandar humor\, statistik (!) och nyskriven musik\, har turnerat sedan hösten 2024. Tidigt stod det klart att musiken föll publiken i smaken och det flög en våg över landet där massor av människor önskade kunna lyssna. Om och om igen. Nåväl. Kanske inte riktigt. Men många har åtminstone föreslagit att musiken ska spelas in. Nu har Camilla med band gjort det. Så nu är du varmt välkommen att fira detta tillsammans med Camilla på sång & trummor\, Pelle Husvall\, gitarr och sång och Thomas Jonasson\, bas. Anna Edström Rolf\, musiker i Bandettes har producerat och spelat in musiken. \n\n\n\nPris: Fri entré\n\n\n\nSå kom\, drick öl & umgås & lyssna. Kvällen bjuder på både live- och inspelad musik\, humor\, häng och firande i massor!Åldersgräns 18-år. I målsmans sällskap 13-år. \n\n\n\nOm du vill äta innan konserten boka bord här: https://medleymalmo.se/boka-bord/Om du behöver boende i samband med konserten rekommenderar vi Hotel Garden ett par minuters promenad från medley: https://ligula.se/en/profilhotels/hotel-garden/Använd “corporate code” 985052 vid rumsbokning för 12% rabatt.
URL:https://medleymalmo.se/event/fri-entre-camilla-jonasson-med-band-releasefest/
ATTACH;FMTTYPE=image/jpeg:https://medleymalmo.se/wip/wp-content/uploads/2025/05/intedinmamma09-e1746270783212.jpg
END:VEVENT
BEGIN:VEVENT
DTSTART;TZID=UTC:20250618T200000
DTEND;TZID=UTC:20250618T220000
DTSTAMP:20260423T090024
CREATED:20250320T200006Z
LAST-MODIFIED:20250329T125422Z
UID:9900-1750276800-1750284000@medleymalmo.se
SUMMARY:New Dime Collectors + Poppers
DESCRIPTION:New Dime Collectors bildades 2016 och släppte sin första fullängdare ”Safe\, Are We?” hösten 2020. På plattan samsades tio låtar med punkaktig energi\, klassiskt rockig sväng och starka melodier. Låtar som ”I Shit You Not!”\, ”Rain Keeps Falling” och ”Doinit” har också snurrat flitigt på streamingplattformarna. Sedan debuten har New Dime Collectors utvecklats i en rakare\, kanske enklare och mera lättillgänglig riktning. Kvar är energin\, drivet och passionen. Nytt är att låtarna är rakare\, kanske enklare\, och mer melodiösa. Singlarna ”Molotov Cocktail” och ”When Stars Align” är bra exempel på hur bandet låter idag.New Dime Collectors har ägnat mycket tid åt att spela in en ny platta. Den nya fullängdaren är starkare\, mer varierad och bättre än debuten. Den är inspelad\, producerad\, mixad och mastrad i bandets ”hemmastudio” Hear! Hear! Studios. New Dime Collectors firar detta i vår med singelsläpp och spelning på Malmös vattenhål nr 1. Sugna på driv\, gung och catchy refränger? Medley is the place to be.Bandet består av: Henrik Johnsson\, leadsång/gitarr – Fredrik Täck\, leadgitarr/sång – Måns Tomsby\, bas/sång – Peter Norén\, trummorPOPPERS – Uppsalas röjigaste liveakt under det senare 80-talet återuppstod plötsligt\, efter 28 års vilopaus\, och har sedan nystarten genomfört ett fåtal exklusiva och bejublade föreställningar. Har nu börjat spela in och släppa nytt material för första gången på 35 år. Släpps allt eftersom så håll öron och ögon öppna. Men framför allt är Poppers en akt som bör avnjutas live\, så ta chansen att uppleva detta om ni har möjlighet.Poppers är FORTFARANDE: Matte Bergkvist\, trummor – Pelle Gradén\, bas och kör – Jonas Olsson\, gitarr och sång – Patrik Fahlström Notlind\, gitarr och sång \n\n\n\nPris: 150 krKöp biljett\n\n\n\n\n\n\n\n\n\n\n\n\n\n\n\nÅldersgräns 18-år. I målsmans sällskap 13-år. \n\n\n\nOm du vill äta innan konserten boka bord här: https://medleymalmo.se/boka-bord/Om du behöver boende i samband med konserten rekommenderar vi Hotel Garden ett par minuters promenad från medley: https://ligula.se/en/profilhotels/hotel-garden/Använd “corporate code” 985052 vid rumsbokning för 12% rabatt.
URL:https://medleymalmo.se/event/new-dime-collectors-poppers/
ATTACH;FMTTYPE=image/jpeg:https://medleymalmo.se/wip/wp-content/uploads/2025/03/New-Dime_poppers.jpg
END:VEVENT
BEGIN:VEVENT
DTSTART;TZID=UTC:20250619T000000
DTEND;TZID=UTC:20250623T235959
DTSTAMP:20260423T090024
CREATED:20250609T085810Z
LAST-MODIFIED:20250609T085811Z
UID:10426-1750291200-1750723199@medleymalmo.se
SUMMARY:🐸🪗 liten midsommarpaus 🪗🐸
DESCRIPTION:
URL:https://medleymalmo.se/event/%f0%9f%90%b8%f0%9f%aa%97-liten-midsommarpaus-%f0%9f%aa%97%f0%9f%90%b8/
END:VEVENT
BEGIN:VEVENT
DTSTART;TZID=UTC:20250624T200000
DTEND;TZID=UTC:20250624T220000
DTSTAMP:20260423T090024
CREATED:20250402T051902Z
LAST-MODIFIED:20250402T051902Z
UID:9996-1750795200-1750802400@medleymalmo.se
SUMMARY:Adrian & Meredith with band (US)
DESCRIPTION:Adrian & Meredith\, the dynamic duo behind The Adrian and Meredith Band\, have journeyed from their humble Midwest roots\, to the heart of East Nashville’s music scene\, to international showcasing and summer touring. Along the way\, they’ve forged kinships with members of storied acts like The Legendary Shackshakers\, Squirrel Nut Zippers\, Calexico\, and Gogol Bordello\, who have become not just heroes but mentors and colleagues. \n\n\n\nTheir music has taken them across Europe\, where they’ve performed for Ukrainian refugees in Poland\, Lithuania\, Latvia\, Estonia\, and Germany\, alongside the rest of Europe\, spreading joy and solidarity through their art. They’ve graced iconic stages like The Grand Ole Opry with The War & Treaty\, Folk Alliance International\, and Levitt Pavilions across the USA. \n\n\n\nCritics and fans alike have taken notice of Adrian and Meredith’s new songs\, most-notably ”Klezmer American”\, ”Stop the Spiral” and ”NFT” as accurate accounts of being a human-being in 2024. The hard-selling band of John Kveen on a driving upright bass\, an overly-talented Ben ”The Odyssey” Reiff on drums\, and unstoppable Ken Wenzel on hot-jazz saxophones and guitars\, makes this act difficult not to dance to! \n\n\n\nPris: 150 krKöp biljett\n\n\n\n\n\n\n\n\n\nCarson City Levitt AMP hails their performances as ”A World Class Performance\,” while No Depression magazine describes their sound as ”Roots Rock Perfection. \n\n\n\nÅldersgräns 18-år. I målsmans sällskap 13-år. \n\n\n\nOm du vill äta innan konserten boka bord Om du behöver boende i samband med konserten rekommenderar vi Hotel Garden ett par minuters promenad från medley: https://ligula.se/en/profilhotels/hotel-garden/Använd “corporate code” 985052 vid rumsbokning för 12% rabatt.
URL:https://medleymalmo.se/event/adrian-meredith-with-band-us/
ATTACH;FMTTYPE=image/jpeg:https://medleymalmo.se/wip/wp-content/uploads/2025/04/AdrianandMeredithBand1-1.jpg
END:VEVENT
BEGIN:VEVENT
DTSTART;TZID=UTC:20250625T200000
DTEND;TZID=UTC:20250625T220000
DTSTAMP:20260423T090024
CREATED:20250426T105328Z
LAST-MODIFIED:20250426T105328Z
UID:10138-1750881600-1750888800@medleymalmo.se
SUMMARY:Fri entré: Jake Lundtofte + Johan Börnå Lindén (bistroscenen)
DESCRIPTION:Upplev och skråla med i svängiga oförutsägbara duoversioner av klassiker med band som Ebba Grön\, Sex Pistols\, The Clash\, Rancid etc. Gitarr och sång Jake Lundtofte\, bas och sång Johan Börnå Lindén. Konserten är på vår bistroscen.Åldersgräns 18-år. I målsmans sällskap 13-år. \n\n\n\nPris: Fri entré\n\n\n\nOm du vill äta innan konserten boka bord Om du behöver boende i samband med konserten rekommenderar vi Hotel Garden ett par minuters promenad från medley: https://ligula.se/en/profilhotels/hotel-garden/Använd “corporate code” 985052 vid rumsbokning för 12% rabatt.
URL:https://medleymalmo.se/event/fri-entre-jake-lundtofte-johan-borna-linden-bistroscenen/
ATTACH;FMTTYPE=image/jpeg:https://medleymalmo.se/wip/wp-content/uploads/2023/08/jakejohan.jpg
END:VEVENT
BEGIN:VEVENT
DTSTART;TZID=UTC:20250626T200000
DTEND;TZID=UTC:20250626T220000
DTSTAMP:20260423T090024
CREATED:20250122T063204Z
LAST-MODIFIED:20250122T063205Z
UID:9411-1750968000-1750975200@medleymalmo.se
SUMMARY:Los Fastidios (IT)
DESCRIPTION:Förra våren gjorde italienska Los Fastidios supersuccé på medley med sitt ska-streetpunk-rocksteady-party! Nu kommer de tillbaka\, missa inte! \n\n\n\nPris: 200 krKöp biljett\n\n\n\n\n\n\n\n\n\nLOS FASTIDIOS born in Verona (north east of Italy) in late 1991 led by Enrico (he is also the founder of the independent label KOB Records). The  sound is a powerful melodic Street-Ska Punk which mixes classic 80’s British Punk-Oi! sounds with a lot of skanking moments and some reggae\, rock’n’roll and a touch of pop\, sung in Italian and English with some touches in French\, Spanish and German languages. The lyrics come from the most cheerful street situations to more serious and involved matters which deal with social problems\, against racism and any form of discrimination\, for the human and animal rights\, for freedom and against the capitalistic and oppressive system. During the years\, Los Fastidios have achieved a great number of anti-racist initiatives and social causes by taking part in various support gigs for the workers\, against racism\, for animal rights\, against war\, against capitalism and neoliberalism… \n\n\n\nÅldersgräns 18-år. I målsmans sällskap 13-år. \n\n\n\nOm du vill äta innan konserten boka bord Om du behöver boende i samband med konserten rekommenderar vi Hotel Garden ett par minuters promenad från medley: https://ligula.se/en/profilhotels/hotel-garden/Använd “corporate code” 985052 vid rumsbokning för 12% rabatt.
URL:https://medleymalmo.se/event/los-fastidios-it/
ATTACH;FMTTYPE=image/jpeg:https://medleymalmo.se/wip/wp-content/uploads/2024/01/fastidos-2-16x9-1.jpg
END:VEVENT
BEGIN:VEVENT
DTSTART;TZID=UTC:20250627T080000
DTEND;TZID=UTC:20250807T170000
DTSTAMP:20260423T090024
CREATED:20250719T104358Z
LAST-MODIFIED:20250719T104358Z
UID:10507-1751011200-1754586000@medleymalmo.se
SUMMARY:Sommarlov & stängt
DESCRIPTION:Vila & konserter går in på vågrät sju och planering & bokningar inför hösten på lodrätt nio
URL:https://medleymalmo.se/event/sommarlov-stangt/
END:VEVENT
END:VCALENDAR