BEGIN:VCALENDAR
VERSION:2.0
PRODID:-//medley - ECPv6.15.20//NONSGML v1.0//EN
CALSCALE:GREGORIAN
METHOD:PUBLISH
X-ORIGINAL-URL:https://medleymalmo.se
X-WR-CALDESC:Händelser för medley
REFRESH-INTERVAL;VALUE=DURATION:PT1H
X-Robots-Tag:noindex
X-PUBLISHED-TTL:PT1H
BEGIN:VTIMEZONE
TZID:UTC
BEGIN:STANDARD
TZOFFSETFROM:+0000
TZOFFSETTO:+0000
TZNAME:UTC
DTSTART:20220101T000000
END:STANDARD
END:VTIMEZONE
BEGIN:VEVENT
DTSTART;TZID=UTC:20230201T190000
DTEND;TZID=UTC:20230201T220000
DTSTAMP:20260419T155145
CREATED:20221225T174217Z
LAST-MODIFIED:20221226T113949Z
UID:3774-1675278000-1675288800@medleymalmo.se
SUMMARY:Releasefest: Rebecka Molander + support: Lars Brundin (unplugged).
DESCRIPTION:Varbergsfödda sångerskan och musikern Rebecka Molander har berört publiken i ett decennium med sin unika röst\, sina självupplevda texter och sitt coola jazz-inspirerade singer-songwriter-sound. Hennes budskap i texterna om utanförskap\, utsatthet och att vara sann mot sig själv når lyssnaren rätt i hjärtat\, på ett lågmält poetiskt sätt och till ackompanjemang av musikens lugna souliga beat. \n\n\n\nSjälvlärd på piano och efter förbandsspelningar till kända artister såsom Lill-Babs och Jan Lundgren gav Rebecka ut sin första egna konsert i eget namn. Med albumet ”Through The Rain” öppnades nya vägar 2015\, och en skivturné 2016 med ett fint mottagande på bland annat MOJO i Köpenhamn. Sedan dess har Molander varit en flitig frilansmusiker\, och som keyboardist i Lars Brundin & Edsvurna.Nu är hon aktuell med EP:n ”Lämnar lyset på” som släpps den 13:e januari (Yellow Rhinestone Records).Lyssna på Rebecka Molanders senaste release \n\n\n\nKvällen inleds av LARS BRUNDIN\, pressfotografen som blev singer-songwriter\, fortfarande aktuell med sitt tredje album ”MÖNSTER”\, som tar med sina Edsvurna i unplugged-format! \n\n\n\nFri entré
URL:https://medleymalmo.se/event/releasefest-rebecka-molander-support-lars-brundin-unplugged/
ATTACH;FMTTYPE=image/jpeg:https://medleymalmo.se/wip/wp-content/uploads/2022/12/rebecca.jpeg
END:VEVENT
BEGIN:VEVENT
DTSTART;TZID=UTC:20230202T200000
DTEND;TZID=UTC:20230202T220000
DTSTAMP:20260419T155145
CREATED:20230116T200122Z
LAST-MODIFIED:20230116T200123Z
UID:3997-1675368000-1675375200@medleymalmo.se
SUMMARY:Husbandet: The No Depressions
DESCRIPTION:Vårt husband The No Depressions bjuder på en massa favoritlåtar. Låtar från band som The Jayhawks\, The Band\, Tom Petty\, Neil Young\, Grateful Dead\, The Replacements\, Hiss Golden Messenger\, Wilco\, The Rolling Stones\, Ryan Adams\, Son Volt\, Crosby Stills & Nash\, The Eagles\, Little Feat\, Steve Earle\, Uncle Tupelo m.fl. Välkommen att äta gott\, dricka gott och njuta av musik du nickar igenkännande till. \n\n\n\nFri entré\n\n\n\nDet givmilda bandet består av:Thomas Larsen: Sång\, gitarrAlbin Linder: TrummorIngrid Lundquist: BasJonathan Sjöberg: OrgelTimmie Flygare: Gitarr och sång
URL:https://medleymalmo.se/event/husbandet-the-no-depressions-4/
ATTACH;FMTTYPE=image/jpeg:https://medleymalmo.se/wip/wp-content/uploads/2022/08/nodepressions.jpeg
END:VEVENT
BEGIN:VEVENT
DTSTART;TZID=UTC:20230203T200000
DTEND;TZID=UTC:20230203T230000
DTSTAMP:20260419T155145
CREATED:20221122T200658Z
LAST-MODIFIED:20230129T201634Z
UID:3560-1675454400-1675465200@medleymalmo.se
SUMMARY:Babian Releaseparty / support: Nova Blast OBS! Utsålt
DESCRIPTION:Alla andra gör det- varför ska jag låta bli? Med en frågeställning som på ett obehagligt sätt ringar in tidsandan skakar BABIAN av sig sin post-covid och släpper en EP med sex primitiva gargerocksrökare alla inspelade i karantän i replokalen under en tid då kurvorna pekade uppåt. Kom och fira releasen med Babian och gäster på Medley den 3/2 2023! Info om förband och ytterligare festligheter tillkommer!Babian är ett svenskspråkigt rockband med fyra kritikerhyllade skivor i bagaget och mängder av spelningar på sitt samvete. Bandet har blivit omtalade som ett av Sveriges bästa liveband\, nominerats till P3 guld för debutskivan ”fullproppad\, listtoppad\, livrädd och uppstoppad\, spelats flitigt i såväl radio som TV och dessutom komponerat vinjettmusiken till SVT’s program ”Sommarlov”. Babian har spelat på de flesta klubbscener och festivaler i Sverige och dessutom turnerat i Norge\, Finland och Tyskland samt uppträtt på Roskilde-festivalen. Den tredje februari 2023 släpper bandet sitt nya album ”Alla andra gör det”.Supportakt: NOVA BLAST! Rama Lama Records är stolta över att kunna välkomna Nova Blast till skivbolaget som den mest högljudda medlemmen hittills. Som fuzzens främsta försvarare har man charmat och chockat publiker runt om i landet sedan debuten 2015. \n\n\n\nPris: 220 krKöp biljett (obs utsålt)
URL:https://medleymalmo.se/event/babian-releaseparty-support/
ATTACH;FMTTYPE=image/jpeg:https://medleymalmo.se/wip/wp-content/uploads/2022/11/Babian-alla-16x9-1-scaled.jpg
END:VEVENT
BEGIN:VEVENT
DTSTART;TZID=UTC:20230204T200000
DTEND;TZID=UTC:20230204T230000
DTSTAMP:20260419T155145
CREATED:20221024T160538Z
LAST-MODIFIED:20221209T140115Z
UID:3369-1675540800-1675551600@medleymalmo.se
SUMMARY:Cashy: Johnny Cash Tribute + Dolly Parton Story
DESCRIPTION:Upplev en helkväll som tillägnas några av Countryns främsta galjonsfigurer. Kvällen inleds lite avskalat med ”The Dolly Parton Story” för att sedan övergå till fullt ös i två set med det hyllade tributebandet CASHY som kvällen till ära även får med sig sin June Carter! \n\n\n\nCASHY – Johnny Cash & June Carter Tribute Show”Hello\, I´m Johnny Cash”. Det klassiska citatet inleder denna sanslöst medryckande och autentiska show som kastar dig från bänkarna på San Quentin till första parkett på Grand Ole Opry. Precis som när Johnny Cash framträdde live under sin långa karriär levererar CASHY låtar i ett ösigt tempo med den berättande sången i centrum. Räkna med en nostalgisk resa och rejält sväng när vi får höra hit efter hit dundra fram. Sång och gitarr: Linus Clason\, Sång: Ylva Mårtensson\, Elgitarr: Marcus Hannerstig\, Kontrabas och sång: Gunnar Wrede\, Trummor och sång: Petter Alexanderson \n\n\n\nThe Dolly Parton StoryMaria Stille och Pontus Stenkvist tar med er på en resa med Dollys största hits\, de bästa historierna och musiken som inspirerade henne. \n\n\n\nPris: 200 krKöp biljett
URL:https://medleymalmo.se/event/cashy-johnny-cash-tribute-dolly-parton-story/
ATTACH;FMTTYPE=image/jpeg:https://medleymalmo.se/wip/wp-content/uploads/2022/10/Cashy-Dolly-poster-2022-1x1-screen-MEDLEYANPASSAD.jpg
END:VEVENT
BEGIN:VEVENT
DTSTART;TZID=UTC:20230206T200000
DTEND;TZID=UTC:20230206T220000
DTSTAMP:20260419T155145
CREATED:20210802T080000Z
LAST-MODIFIED:20220206T130224Z
UID:503-1675713600-1675720800@medleymalmo.se
SUMMARY:Ted Russell Kamp (US)
DESCRIPTION:TED RUSSELL KAMP är en väldigt produktiv rootsy singer-songwriter i country-americana-facket för fans av Buddy Miller\, Steve Earle & Jim Lauderdale. Han spelar i SHOOTER JENNINGS band sedan drygt 15 år och medverkar på TANYA TUCKERs comebackalbum liksom JAIME WYATTs genombrottsskiva.  \n\n\n\nPris: 200 krKöp biljett\n\n\n\nLyssna: \n\n\n\n\n\n\n\n\n\nKolla:
URL:https://medleymalmo.se/event/ted-russell-kamp-us/
ATTACH;FMTTYPE=image/png:https://medleymalmo.se/wip/wp-content/uploads/2021/07/TRK_photos_slider_9.png
END:VEVENT
BEGIN:VEVENT
DTSTART;TZID=UTC:20230207T200000
DTEND;TZID=UTC:20230207T220000
DTSTAMP:20260419T155145
CREATED:20211123T134800Z
LAST-MODIFIED:20230130T163042Z
UID:1319-1675800000-1675807200@medleymalmo.se
SUMMARY:Jesse Redwing Band (AUS)
DESCRIPTION:En ny bluesfavorit kommer till medley! Jesse Redwing från Australien är en själfull\, medryckande och autentisk artist. Oftast på turné i Australien\, USA eller Europa. “Sweet rockin’ rhythm and blues”. \n\n\n\nPris: 200 krKöp biljett
URL:https://medleymalmo.se/event/jesse-redwing-aus/
ATTACH;FMTTYPE=image/jpeg:https://medleymalmo.se/wip/wp-content/uploads/2021/11/jesse_16x9.jpg
END:VEVENT
BEGIN:VEVENT
DTSTART;TZID=UTC:20230208T200000
DTEND;TZID=UTC:20230208T220000
DTSTAMP:20260419T155145
CREATED:20230104T091552Z
LAST-MODIFIED:20230117T070033Z
UID:3886-1675886400-1675893600@medleymalmo.se
SUMMARY:Pivot Plateau + Svart Ridå
DESCRIPTION:PIVOT PLATEAU är en indierock-hexagon från Malmö som inte backar för de stora känslorna. Den smutsiga gitarrdrivna ljudbilden i kombination med frontkvinnan Fridas själfulla sång tar dig med på en resa från det grandiosa till det intima. Pivot Plateau handlar nämligen om kontrasterna som går från förrätt till buffé\, pivots i plateaus på svartvita schackgolv. Medan låtarna skildrar vardagens dramatik\, underbyggd av nostalgi och 90-talets quiet-to-loud dynamik. ” \n\n\n\nSVART RIDÅ är en alternativ pop/rock-duo från södra Sverige som tidigare varit aktiv med musikföreställningen En Svart Ridå. Musiken kombinerar det oförutsägbara med det självklara\, där experimentell rock möter träffsäkra popmelodier och hjältesolon. Svart Ridå är för nuvarande aktuella med sin fjärde singel ”Visioner” från debutalbumet som släpps under våren 2023. \n\n\n\nPris: 150 krKöp biljett
URL:https://medleymalmo.se/event/pivot-plateau-svart-rida/
ATTACH;FMTTYPE=image/jpeg:https://medleymalmo.se/wip/wp-content/uploads/2023/01/pivot-och-rida.jpg
END:VEVENT
BEGIN:VEVENT
DTSTART;TZID=UTC:20230209T200000
DTEND;TZID=UTC:20230209T220000
DTSTAMP:20260419T155145
CREATED:20221219T143224Z
LAST-MODIFIED:20221220T125617Z
UID:3739-1675972800-1675980000@medleymalmo.se
SUMMARY:Teddy and the Rough Riders (US)
DESCRIPTION:TEDDY AND THE ROUGH RIDERS är ett band musikälskare kan drömma våta drömmar om innan de ens vet att bandet finns. De är allt man kan önska sig av US underground-rock\, country och gränslös 70-tals-rock’n’roll i en enda salig röra.Ett klassiskt amerikanskt rockband\, som kan låta som vilket band som helst som du älskat och samtidigt som något du aldrig hört tidigare. De har inte uppfunnit country-rock; de är country-rock. Musik i rakt nedstigande led från Flying Burrito Brothers\, The Band och New Riders of the Purple Sage med inslag från Hoyt Axton\, JJ Cale och Doug Sahm.Bland Teddy and the Rough Riders fans hittar man till exempel Jack White och Margo Price\, som också producerade deras senaste album. \n\n\n\nPris: 200 krKöp biljett
URL:https://medleymalmo.se/event/teddy-and-the-rough-riders-us/
ATTACH;FMTTYPE=image/jpeg:https://medleymalmo.se/wip/wp-content/uploads/2022/12/Teddy-_-the-Rough-Riders-16x9-1.jpg
END:VEVENT
BEGIN:VEVENT
DTSTART;TZID=UTC:20230210T200000
DTEND;TZID=UTC:20230210T230000
DTSTAMP:20260419T155145
CREATED:20221123T170447Z
LAST-MODIFIED:20221130T175521Z
UID:3589-1676059200-1676070000@medleymalmo.se
SUMMARY:Alabama Moonshine Co. + Flying Changes
DESCRIPTION:ALABAMA MOONSHINE CO. bjuder på Honkytonk och Rockin’ Country i rakt nedstigande led från Creedence och Rolling Stones runt Honky Tonk Women och Dead Flowers med texter om sviken kärlek\, ond bråd död och brustna illusioner. ”Det är drygt 4 år sedan vårt debutalbum kom ut\, och nu är vi tillbaka med en ny EP! Den här gången är det mer gitarrer\, mer skit under naglarna\, mer rock helt enkelt. Nästan tal om en comeback?” (Håkan Jangsell) \n\n\n\nBandet FLYING CHANGES består av Kristina Helgesen på piano/sång\, Martina Johnsson gitarr/sång Cissi Hedlund fiol/sång. Pontus Eriksson trummor\, Olof Jennfors bas och Pär Håkansson Banjo/gitarr/pedal steel. De uppstod efter att HOLD YOUR HORSES splittrats.Med eget material av två låtskrivare med varsitt uttryck skapas en dynamisk repertoar med en mix av americana\, folkpop\, visa och en touch of soul. \n\n\n\nPris: 200 krKöp biljett
URL:https://medleymalmo.se/event/alabama-moonshine-co-flying-changes/
ATTACH;FMTTYPE=image/jpeg:https://medleymalmo.se/wip/wp-content/uploads/2022/11/flying-och-alabama-16x9-2.jpg
END:VEVENT
BEGIN:VEVENT
DTSTART;TZID=UTC:20230211T200000
DTEND;TZID=UTC:20230211T230000
DTSTAMP:20260419T155145
CREATED:20230116T064919Z
LAST-MODIFIED:20230116T064920Z
UID:3977-1676145600-1676156400@medleymalmo.se
SUMMARY:Brigade: The Clash Tribute + The Push
DESCRIPTION:BRIGADE: Tim Foxley från London frontar denna The Clash-hyllning som tar med oss på en tripp till 1977-1980! Solklara hits och obskyra favoriter i skön mix! Bandet är nu utökat med keyboards precis som The Clash gjorde när man kallade in Mickey Gallagher (Ian Dury & The Blockheads\, The Animals) för the London Calling sessions.Inleder kvällen gör legendariska Klippan-bandet THE PUSH med sin medryckande Ska / Reggae! Sju man i bandet som startade redan på 70-talet. De har släppt ett gäng skivor plus en gång i tiden dykt upp både i TV och på topplistor. \n\n\n\nPris: 200 krKöp biljett
URL:https://medleymalmo.se/event/brigade-the-clash-tribute-the-push/
ATTACH;FMTTYPE=image/jpeg:https://medleymalmo.se/wip/wp-content/uploads/2023/01/Brigade_the-push_16x9.jpg
END:VEVENT
BEGIN:VEVENT
DTSTART;TZID=UTC:20230214T193000
DTEND;TZID=UTC:20230214T220000
DTSTAMP:20260419T155145
CREATED:20221230T133857Z
LAST-MODIFIED:20230115T210006Z
UID:3838-1676403000-1676412000@medleymalmo.se
SUMMARY:Alla(n) hjärtans dag – en visgala till förmån för Stadsmissionen
DESCRIPTION:Alla hjärtans dag… men istället för choklad och rosor blir det ord och visor. Och kärlek. Visor i Allan Edwalls anda i en kärleks-välgörenhetsgala på medley till förmån för Stadsmissionen. \n\n\n\nKalaskapellet som bl.a består av Rick Titrö\, Anette Rosengren\, Emma Silfver\, Jonas Lind\, Peter Mattsson\, Anders Wieslander & Johannes Antreski ramar in kvällen där Åsa Bällsten\, Samuel Trygger\, Isabell Dahlberg\, Mats Källblad\, Emma Knyttet Larsson\, Mattias Bengtsson\, Nicklas Wallén\, Stina Künstlicher\, John Ström m.fl. bjuder på tolkningar ur Allan Edwalls visskatt såväl som egna betraktelser. \n\n\n\nEfter omkostnader går alla kvällens biljettintäkter till Stadsmissionen. Välj själv hur mycket du kan/vill bidra med: \n\n\n\n100\, 200 eller 300 krKöp biljett
URL:https://medleymalmo.se/event/allan-hjartans-dag-en-visgala-till-forman-for-stadsmissionen/
ATTACH;FMTTYPE=image/jpeg:https://medleymalmo.se/wip/wp-content/uploads/2022/12/Allan-16x9-1.jpeg
END:VEVENT
BEGIN:VEVENT
DTSTART;TZID=UTC:20230215T200000
DTEND;TZID=UTC:20230215T220000
DTSTAMP:20260419T155145
CREATED:20221125T071234Z
LAST-MODIFIED:20221127T175203Z
UID:3598-1676491200-1676498400@medleymalmo.se
SUMMARY:Ola Aurell: En vidrig kväll med Herr Aurell
DESCRIPTION:Ola Aurell har genom åren spridit flera sånger som ligger ”på gränsen”\, men som klarat sig från dikeskörning genom någon slags finess eller omdöme. Ibland har Aurell undrat hur det ser ut på andra sidan den gränsen. I det verkligt smaklösas rike\, där allt havererar i grovheter. Det är dags att ta reda på det. \n\n\n\nDen 15 februari kommer Herr Aurell till Malmö och bjuder in till en unik kväll med opublicerbara covers\, ospelbara provokationer och det vidrigaste han samlat på sig på botten av sina mörkaste byrålådor. Kanske blir det genant för alla inblandade. Kanske blir det något alldeles underbart. \n\n\n\nEn kväll att minnas eller hålla sig borta från.Om det trots allt lockar – kom på egen risk. \n\n\n\nPris: 195 krKöp biljett\n\n\n\nSagt om föreställningen:”Jag blev kränkt och kommer därför inte kräva en återbetalning” \n\n\n\n”Det var en hemskt vidrig kväll. Jag lider än av äckelkänslor. Ja du slog alla rekord i äckel. Hatten av!”
URL:https://medleymalmo.se/event/ola-aurell-en-vidrig-kvall-med-herr-aurell/
ATTACH;FMTTYPE=image/jpeg:https://medleymalmo.se/wip/wp-content/uploads/2022/11/IMG_20220818_154959_666.jpg
END:VEVENT
BEGIN:VEVENT
DTSTART;TZID=UTC:20230216T200000
DTEND;TZID=UTC:20230216T220000
DTSTAMP:20260419T155145
CREATED:20221230T142630Z
LAST-MODIFIED:20221230T142631Z
UID:3845-1676577600-1676584800@medleymalmo.se
SUMMARY:Nevergreens – Svante Lodén och Erik Hjärpe hittar på 100% nya låtar varje kväll
DESCRIPTION:Välkommen till en musikalisk happening som helt och hållet bygger på improviserad text och musik. Dyk upp\, bidra med en låttitel och dela den skräckblandade glädjen i att inte veta vad nästa ackord eller textrad är. \n\n\n\nI akten Nevergreens skapar Erik och Svante ­– med stickord och intryck från publiken – oskrivna kärleksballader som kantrar in i det absurda\, falsettsoul\, minimusikaler\, vrålexcentrisk R’n’B och ibland bara en jäkligt halvlyckad låt som aldrig mer kommer att finnas. Duons mer än tjugoåriga gemensamma historia har skapat ett samspel som är få förunnat och en kommunikation med publiken som inte liknar något annat. \n\n\n\nErik Hjärpe (piano) och Svante Lodén (sång) är prominenta medlemmar i Timbuktus ständiga kompband Damn! som stadigt förvaltar sin position som en av Sveriges bästa liveakter. Som inkännande och anspråksfull duo har de ibland kallat sig The Martelli Tapes och då ofta funnit sig själv i halsbrytande improvisationer. \n\n\n\nPris: 165 krKöp biljett
URL:https://medleymalmo.se/event/nevergreens-svante-loden-och-erik-hjarpe-hittar-pa-100-nya-latar-varje-kvall/
ATTACH;FMTTYPE=image/png:https://medleymalmo.se/wip/wp-content/uploads/2022/12/Nevergreens_var23.png
END:VEVENT
BEGIN:VEVENT
DTSTART;TZID=UTC:20230217T200000
DTEND;TZID=UTC:20230217T230000
DTSTAMP:20260419T155145
CREATED:20221230T145137Z
LAST-MODIFIED:20221230T145138Z
UID:3850-1676664000-1676674800@medleymalmo.se
SUMMARY:Cover Me
DESCRIPTION:COVER ME bjuder på en kväll där Roger Åkermans egna låtar samsas med tolkningar av Bonnie Raitt\, Black Keys\, Foo Fighters och Joe Bonamassa. Det lär även bli några favoriter av David Bowie och John Lennon. \n\n\n\nPris 200 krKöp biljett\n\n\n\nRoger Åkerman; sång och gitarr. Mannen som startade Cover Me 1987Peter Krantz; Batteristen som var med från bandstart och som spelat med Roger i många olika konstellationer som Rockford och CarismaPer Lindell; Gitarr och senaste tillskottet med förflutet i bl a Basement Pop\, Fifty-Fifty\, Mixtapes och just nu även i Howlin SallyDan Johansson; bas som har spelat med flera musiker med koppling till Kal P Dal och Pedalens Pågar. Spelar även med The BleachersAxel Heimer; keyboardist som spelat med Soul Revelation\, The Revelettes\, Pearls & The Swine
URL:https://medleymalmo.se/event/cover-me/
ATTACH;FMTTYPE=image/jpeg:https://medleymalmo.se/wip/wp-content/uploads/2022/12/57486649_2291340267596897_1546034402306293760_n.jpg
END:VEVENT
BEGIN:VEVENT
DTSTART;TZID=UTC:20230218T200000
DTEND;TZID=UTC:20230218T230000
DTSTAMP:20260419T155145
CREATED:20221230T143834Z
LAST-MODIFIED:20221230T143834Z
UID:3847-1676750400-1676761200@medleymalmo.se
SUMMARY:Jennifer Saxell Band (CA/SE)
DESCRIPTION:Äntligen får vi se JENNIFER SAXELL och hennes åttamannaband på scen i Malmö! Lördagen den 18:e februari är det releaseparty för Jennifers nya CD på medley! Jennifer Saxell är en multi-artist (sångerska\, låtskrivare\, bildkonstnär) som gör varje möte med sin publik till en nära och spännande upplevelse. Hon är född i Vancouver\, Kanada\, i en familj där musiken alltid hade sin självklara plats. Åren av spelande på rockklubbar och festivaler i Kanada\, där hon delat scen med bland andra KD Lang och Emmylou Harris\, har gjort henne till en rutinerad liveartist\, men hon är fortfarande nyfiken och utmanande och räds inte att ta sitt konstnärskap på nya utflykter. \n\n\n\nPris: 200 krKöp Biljett\n\n\n\nJennifer Saxell Band:Jennifer Saxell – sång\, akustisk gitarrPeter Antonsson – elgitarr\, körPetra Kvist – fiol\, körAndersThorén – klaviatur\, dragspel\, sångThomas Larsen – akustisk gitarr\, körDag Strömquist – trummorKristian Schön – basMathias Gunnarsson – trumpetOssian Edlund – tuba \n\n\n\n\n\n\n\n\n\nMaria Anderberg:”Jennifer Saxell är musikaliskt sprungen ur den nordamerikanska country- och rocktraditionen och det finns en tuffhet och attityd i hennes musik som tar henne till en musikalisk plattform hon delar med till exempel Bonnie Raitt eller Lucinda Williams.”Olle Berggren:”Årets överraskning på den inhemska Americana-scenen har anlänt!JENNIFER SAXELL är den magiska punkt där COUNTRY möter 80-talets POWERPOP \n\n\n\nJennifer Saxell: Let’s Talk About MeBetyg ++++Min första tanke är: var har du varit under alla dessa år?Jo\, Jennifer har mest jobbat med sin bildkonst\, trots att hon är en av de bästa country-röster som dykt upp i Sverige eller Europa om ni så vill. Den sträva\, lätt hesa och flickaktiga rösten som minner om 80-talets Paisley Underground i Los Angeles (typ The Go Go’s och Bangles) med låtar som för tankarna till Rosanne Cash tidiga produktion (när ex-maken Rodney Crowell var hennes ledsagare i studion).Låtmässigt är det genialt\, smått ofattbart\, med en oerhört stark inledning med Devil’s Radio\, Standing Still\, den lite lugnare\, mer eftertänksamma Beautiful Sight och titelspåret Let’s Talk About Me (med ett In the Ghetto-liknande gitarr-intro).Dessutom har man lyckats få till en helt överslägsen ljudbild (med dagens svenska mått mätt). Och detta album är inspelat på Österlen!Life´ll Be the Death of Me är en annan liten pärla\, Texas-country (med joddling) möter New Orleans begravnings-blås. Genialt.Fyllig ljudbild med tung rytmsektion\, en drivande gitarrist (även slide)\, ibland färgsätter man med fiol\, dragspel\, orgel\, piano och snygga körarranagemang.Jennifer Saxell övertygar mig i såväl rollen som låtskrivare\, som sångerska.Hon är unik. Något vi kunde höra förra sommaren då Jennifer var en del av trion med Yvette Eklund och Cicci Landén som hyllade Emmylou Harris.Om vi levt i en annan tid\, när skivbolagen styrde och brann för musiken\, hade Jennifer legat på Warner\, Capitol eller CBS (Sony idag) och med all säkerhet även släppts i hennes tidigare hemland Kanada och USA.Och\, som jag tidigare skrivit\, Jennifer gör också den definitiva versionen av California-klassikern Eve of Destruction (SÅ aktuell idag) och förvandlar den till en form av Laurel Canyon möter 80-talets amerikanska powerpop.Lysande! ”
URL:https://medleymalmo.se/event/jennifer-saxell-band-ca-se/
ATTACH;FMTTYPE=image/jpeg:https://medleymalmo.se/wip/wp-content/uploads/2022/12/JenniferSaxell_1-_16x9.jpg
END:VEVENT
BEGIN:VEVENT
DTSTART;TZID=UTC:20230221T200000
DTEND;TZID=UTC:20230221T220000
DTSTAMP:20260419T155145
CREATED:20230126T085107Z
LAST-MODIFIED:20230126T085108Z
UID:4083-1677009600-1677016800@medleymalmo.se
SUMMARY:Chico’s Blue Tuesday med Yvette Eklund & Åsa Widerberg
DESCRIPTION:Gitarristen & kapellmästaren Chico Lindvall har gjort succé på medley med sina intima tisdagskonserter på vår bistroscen. Den här gången blir det “Blues\, Soul & beyond” med gästsångerskorna Yvette Eklund & Åsa Widerberg. Vi får höra tolkningar av Prince\, Big Mama Thornton\, Van Morrison\, Lou Ann Barton\, Ray Charles med flera. Bandet består av basisten Johnny Åhman & trummisen Rasmus Otto Ringdahl. Pianist tillkommer. \n\n\n\nPris: 150 krKöp biljett\n\n\n\nBoka gärna bord\, här hittar du aktuell meny.
URL:https://medleymalmo.se/event/chicos-blue-tuesday-med-yvette-eklund-asa-widerberg/
ATTACH;FMTTYPE=image/jpeg:https://medleymalmo.se/wip/wp-content/uploads/2023/01/chico-med-gitarr.jpg
END:VEVENT
BEGIN:VEVENT
DTSTART;TZID=UTC:20230222T200000
DTEND;TZID=UTC:20230222T220000
DTSTAMP:20260419T155145
CREATED:20230215T174927Z
LAST-MODIFIED:20230215T174928Z
UID:4263-1677096000-1677103200@medleymalmo.se
SUMMARY:Lily Bauer + Slowglow (Åsa Pålsson)
DESCRIPTION:Åsa Pålsson\, som i musikaliska sammanhang kallar sig för Slowglow\, sjunger sorgliga sånger om olycklig kärlek. I mars släpps hennes debut-EP där hon bygger upp en dunkel hubbabubba-värld med hjälp av pianoplinkande\, svajande elgitarrackord och sentimentala stråkar. Magiskt! “Lily Bauer började sin musikaliska resa som gatumusikant och spelade på Sydney och Malmös gator\, men som tur är finns det nu inspelad musik att tillgå. Debutsingeln ”Wander” är folkpop som är både extremt välskriven och välsjungen.” Hymn \n\n\n\nKonserten kommer vara på vår bistroscen. \n\n\n\nFri entré
URL:https://medleymalmo.se/event/lily-bauer-slowglow-asa-palsson/
ATTACH;FMTTYPE=image/jpeg:https://medleymalmo.se/wip/wp-content/uploads/2023/02/slowLily_16x9.jpg
END:VEVENT
BEGIN:VEVENT
DTSTART;TZID=UTC:20230223T200000
DTEND;TZID=UTC:20230223T220000
DTSTAMP:20260419T155145
CREATED:20221024T161137Z
LAST-MODIFIED:20221024T161432Z
UID:3372-1677182400-1677189600@medleymalmo.se
SUMMARY:Jenny Blue & The Tombstone Shadows Releaseparty
DESCRIPTION:Malmös Jenny Jonasson får anses vara en av Skånes främsta blues & soul -drottningar. Med sin egen hybrid av Aretha & Janis verkar hon i otaliga musikaliska samarbeten. Projektet Tombstone Shadows med rötter på Österlen är en kvartett startad med gitarristen Tor Andersson samt rutinerade Skånebaserade musiker som tolkar örhängen i genrerna Blues / Soul /Rock på ett helt eget\, svängigt\, ärligt och naket sätt. Förutom att spela så mycket som det går i eget namn har de bla agerat support till Mats Ronander\, Py Bäckman\, Ola Magnell & Sanne Salomonsen. I Februari 2021 släpptes deras kritikerhyllade debut-EP ”Låt Mig Få Gå” & i Februari 2023 släpps efterföljaren med arbetsnamnet ”Moment 22”.    \n\n\n\nPris: 150 krKöp biljett\n\n\n\n\n\n\n\n\n\nOlle Berggren (Expressen\, Kvällsposten\, Galore Weekend mfl)\, Feb 2021 ”Blir imponerad när jag hör Jenny Blue & The Tombstone Shadows tolka låtar som Etta James paradnummer ”I’d Rather Go Blind” som på skånska blir till ”Hellre Blind”. Och WOW\, vilket gitarrsolo!. Med sin dagsfärska EP\, ”Låt mig få gå”\, tar Jenny Blue och herrarna i The Tombstone Shadows\, ett stort steg framåt och har hittat något alldeles eget. Detta är rena drömbokningen om det nu blir en Malmöfestival i augusti” \n\n\n\nJefferson Blues Magazine / Feb. 2021 ”Peps har fått en kvinnlig efterföljare i ämnet blues på Skånska”
URL:https://medleymalmo.se/event/jenny-blue-the-tombstone-shadows-releaseparty/
ATTACH;FMTTYPE=image/jpeg:https://medleymalmo.se/wip/wp-content/uploads/2022/10/Tombstone_banner-scaled.jpg
END:VEVENT
BEGIN:VEVENT
DTSTART;TZID=UTC:20230224T200000
DTEND;TZID=UTC:20230224T230000
DTSTAMP:20260419T155145
CREATED:20230206T161256Z
LAST-MODIFIED:20230206T161256Z
UID:4174-1677268800-1677279600@medleymalmo.se
SUMMARY:BluesBlocket + Bloosblasters
DESCRIPTION:Medley bjuder in till en kväll med två klassiska skånska bluesband: BLUESBLOCKET och BLOOSBLASTERS! Missa inte detta tillfälle!BLUESBLOCKET inleder kvället\, med Mats Zetterberg (från bl.a. Fiendens Musik) i spetsen. 2019 följde bandet äntligen upp debutplattan från 1981 med albumet ”Svart Blues är ett Vitt Begrepp”. Blues på svenska som svänger med Mats Zetterberg\, sång/texter\, Björn Almquist\, gitarr/sång\, Sven Bornemark\, keys\, Mac Robertson\, bas och Ingvar Krupa\, trummor. \n\n\n\nBLOOSBLASTERS är ett genuint liveband. Det är rock’n’roll\, reggae och gladbloos på skånska. Bloosblasters medlemmar: Dennis Westerberg\, sång/munspel/gitarr\, Johan Pihleke\, orgel/piano/kör\, Lena Bergkvist\, bas/kör\, Lazlo Kristofferson\, trummor/kör och Patrick O Ölander\, gitarr/kör. “Ronny Åström\, Kal P. Dal\, Wilmer X och Skånes okrönte blues- och reggaekung Peps Persson hör alla till mina gamla skånska favoritartister. Och Bloosblasters är som en blandning av allihop.” (zeromagazin.nu) \n\n\n\nPris: 200 krKöp Biljett
URL:https://medleymalmo.se/event/bluesblocket-bloosblasters/
ATTACH;FMTTYPE=image/jpeg:https://medleymalmo.se/wip/wp-content/uploads/2023/02/bluesbloos_16x9.jpg
END:VEVENT
BEGIN:VEVENT
DTSTART;TZID=UTC:20230225T200000
DTEND;TZID=UTC:20230225T230000
DTSTAMP:20260419T155145
CREATED:20230115T120654Z
LAST-MODIFIED:20230115T120655Z
UID:3970-1677355200-1677366000@medleymalmo.se
SUMMARY:Blind Lake släppefest
DESCRIPTION:Släppefest för Blind Lakes nya E.P. Wellness! Om debutalbumet “On Earth” (2015) var Blind Lakes första gång på jorden och “Streetlife” (2020) ett försök att förstå människan\, då är E.P:n ”Wellness”som släpps den 24 februari 2023 en betraktelse av sitt eget väsen och frågan om dess vikt. Musiken parkerar sig någonstans emellan singersongwriter-pop\, alt. country och 80-talsballad med rostiga strängar och onda intentioner. Liksom Laura Veirs intima melodier och rösterna i band som Wye Oak och Low har Blind Lake skapat sig ett eget sound med sina sammanväxta stämband. \n\n\n\nPå EP-releasefesten på Medley sällskapas duon av Andreas Ejnarsson (Avantgardet) på diverse instrument och talang. Givetvis finns det plattor till salu! \n\n\n\nPris: 100 krKöp biljett
URL:https://medleymalmo.se/event/blind-lake-slappefest/
ATTACH;FMTTYPE=image/jpeg:https://medleymalmo.se/wip/wp-content/uploads/2023/01/BL-Medley-3.jpg
END:VEVENT
END:VCALENDAR