BEGIN:VCALENDAR
VERSION:2.0
PRODID:-//medley - ECPv6.15.20//NONSGML v1.0//EN
CALSCALE:GREGORIAN
METHOD:PUBLISH
X-WR-CALNAME:medley
X-ORIGINAL-URL:https://medleymalmo.se
X-WR-CALDESC:Händelser för medley
REFRESH-INTERVAL;VALUE=DURATION:PT1H
X-Robots-Tag:noindex
X-PUBLISHED-TTL:PT1H
BEGIN:VTIMEZONE
TZID:UTC
BEGIN:STANDARD
TZOFFSETFROM:+0000
TZOFFSETTO:+0000
TZNAME:UTC
DTSTART:20250101T000000
END:STANDARD
END:VTIMEZONE
BEGIN:VEVENT
DTSTART;TZID=UTC:20260422T200000
DTEND;TZID=UTC:20260422T220000
DTSTAMP:20260422T193830
CREATED:20260227T160225Z
LAST-MODIFIED:20260227T160226Z
UID:12407-1776888000-1776895200@medleymalmo.se
SUMMARY:Fri entré: Husbandet på medley: Fleetwood Mac Tribute
DESCRIPTION:Husbandet på medley gör succé med sina olika tribute kvällar. Det har låtit strålande och det har varit fullsatta kvällar. Efter ett första set med blandade americana-favoriter har bl a Neil Young\, Ryan Adams\, Steve Earle\, Jason Isbell och Tom Petty hyllats. Det är samma upplägg den här gången. \n\n\n\nDet är fri entré men vi ser gärna att ni swishar en summa direkt till bandet.\n\n\n\nÅldersgräns 18-år. I målsmans sällskap 13-år.Om du vill äta innan konserten boka bord
URL:https://medleymalmo.se/event/fri-entre-husbandet-pa-medley-fleetwood-mac-tribute/
ATTACH;FMTTYPE=image/png:https://medleymalmo.se/wip/wp-content/uploads/2025/05/Husbandet_16x9-nashville.png
END:VEVENT
END:VCALENDAR